BEGIN:VCALENDAR
VERSION:2.0
PRODID:-//wp-events-plugin.com//7.2.3.1//EN
TZID:Europe/London
X-WR-TIMEZONE:Europe/London
BEGIN:VEVENT
UID:125@cumberland-geol-soc.org.uk
DTSTART;TZID=Europe/London:20260416T100000
DTEND;TZID=Europe/London:20260416T150000
DTSTAMP:20260413T143804Z
URL:https://www.cumberland-geol-soc.org.uk/events/the-windermere-supergrou
 p/
SUMMARY:The Windermere Supergroup - * Postponed *
DESCRIPTION:Leader: Richard Wrigley\, WGS\n\nExamination of latest Ordovici
 an to late Silurian rocks unconformably overlying rocks of the Borrowdale 
 Volcanic Group. Total walking distance (moderate) is about 6.5km. In place
 s it maybe wet underfoot. (Participants are recommended to have read GA Cu
 mbria Guide Volume 2\, itinerary 2.3).\n\nAs there is limited parking at t
 he start\, attendees are requested to car share where possible.\n\nPlease 
 read the Excursion Information (including Risk Assessment) before booking.
 \n\nRW Windermere Super Group Excursion Information\n\nCGS WSG Excursion I
 tinerary\n\nClick here to book
LOCATION:Walna Scar Car Park (paid)\, SD 2889 9701\, Coniston\, United King
 dom
GEO:54.36398028;-3.0957435
X-APPLE-STRUCTURED-LOCATION;VALUE=URI;X-ADDRESS=SD 2889 9701\, Coniston\, U
 nited Kingdom;X-APPLE-RADIUS=100;X-TITLE=Walna Scar Car Park (paid):geo:54
 .36398028,-3.0957435
END:VEVENT
BEGIN:VTIMEZONE
TZID:Europe/London
X-LIC-LOCATION:Europe/London
BEGIN:DAYLIGHT
DTSTART:20260329T020000
TZOFFSETFROM:+0000
TZOFFSETTO:+0100
TZNAME:BST
END:DAYLIGHT
END:VTIMEZONE
END:VCALENDAR