BEGIN:VCALENDAR
VERSION:2.0
PRODID:-//wp-events-plugin.com//7.2.3.1//EN
TZID:Europe/London
X-WR-TIMEZONE:Europe/London
BEGIN:VEVENT
UID:63@cumberland-geol-soc.org.uk
DTSTART;TZID=Europe/London:20220208T193000
DTEND;TZID=Europe/London:20220208T193000
DTSTAMP:20220820T184953Z
URL:https://www.cumberland-geol-soc.org.uk/events/the-formation-of-drumlin
 s-and-other-glacial-deposits/
SUMMARY:The formation of drumlins and other glacial deposits
DESCRIPTION:Prof Emrys Phillips\nBGS Edinburgh
END:VEVENT
BEGIN:VTIMEZONE
TZID:Europe/London
X-LIC-LOCATION:Europe/London
BEGIN:STANDARD
DTSTART:20211031T010000
TZOFFSETFROM:+0100
TZOFFSETTO:+0000
TZNAME:GMT
END:STANDARD
END:VTIMEZONE
END:VCALENDAR