BEGIN:VCALENDAR
VERSION:2.0
PRODID:-//wp-events-plugin.com//7.2.3.1//EN
TZID:Europe/London
X-WR-TIMEZONE:Europe/London
BEGIN:VEVENT
UID:117@cumberland-geol-soc.org.uk
DTSTART;TZID=Europe/London:20251008T193000
DTEND;TZID=Europe/London:20251008T193000
DTSTAMP:20251008T182520Z
URL:https://www.cumberland-geol-soc.org.uk/events/the-acadian-orogeny/
SUMMARY:The Acadian Orogeny
DESCRIPTION:Dr Nigel Woodcock\, Cambridge University\, will give a talk on 
 "The Acadian Orogeny - British &amp\; Irish slate belts and their relation
 ship to Devonian granite emplacement."\n\nThis meeting will be on Zoom.\n\
 nhttps://us06web.zoom.us/j/84686626847?pwd=wXBNaoaOAGT0pfX7gA13A1eC6eLvpv.
 1\n\nMeeting ID: 846 8662 6847\nPasscode: 921084
LOCATION:https://us06web.zoom.us/j/84686626847?pwd=wXBNaoaOAGT0pfX7gA13A1eC
 6eLvpv.1
END:VEVENT
BEGIN:VTIMEZONE
TZID:Europe/London
X-LIC-LOCATION:Europe/London
BEGIN:DAYLIGHT
DTSTART:20250330T020000
TZOFFSETFROM:+0000
TZOFFSETTO:+0100
TZNAME:BST
END:DAYLIGHT
END:VTIMEZONE
END:VCALENDAR