BEGIN:VCALENDAR
VERSION:2.0
PRODID:-//wp-events-plugin.com//7.2.3.1//EN
TZID:Europe/London
X-WR-TIMEZONE:Europe/London
BEGIN:VEVENT
UID:8@cumberland-geol-soc.org.uk
DTSTART;TZID=Europe/London:20190703T180000
DTEND;TZID=Europe/London:20190703T180000
DTSTAMP:20190315T165428Z
URL:https://www.cumberland-geol-soc.org.uk/events/skiddaw-group-structures
 -and-sill-in-wythop-woods/
SUMMARY:Skiddaw Group Structures and Sill in Wythop Woods
DESCRIPTION:Leader: John  Rodgers\n\nMeet at 6pm Woodend Brow CP off A66\,
  NY 218 275\nhttp://www.streetmap.co.uk/map.srf?X=321850&amp\;Y=527550&amp
 \;A=Y&amp\;Z=115\n\nN.B. This is an evening trip.  About 5km walking on l
 ow-level forestry tracks.
END:VEVENT
BEGIN:VTIMEZONE
TZID:Europe/London
X-LIC-LOCATION:Europe/London
BEGIN:DAYLIGHT
DTSTART:20190331T020000
TZOFFSETFROM:+0000
TZOFFSETTO:+0100
TZNAME:BST
END:DAYLIGHT
END:VTIMEZONE
END:VCALENDAR