BEGIN:VCALENDAR
VERSION:2.0
PRODID:-//wp-events-plugin.com//7.2.3.1//EN
TZID:Europe/London
X-WR-TIMEZONE:Europe/London
BEGIN:VEVENT
UID:1@cumberland-geol-soc.org.uk
DTSTART;TZID=Europe/London:20190123T193000
DTEND;TZID=Europe/London:20190123T193000
DTSTAMP:20181216T101050Z
URL:https://www.cumberland-geol-soc.org.uk/events/new-advances-in-understa
 nding-the-british-and-irish-ice-sheet-with-particular-reference-to-cumbria
 /
SUMMARY:New advances in understanding the British and Irish Ice Sheet with 
 particular reference to Cumbria
DESCRIPTION:Prof. David Evans\, Durham University\n\nNew advances in unders
 tanding the British and Irish Ice Sheet with particular reference to Cumbr
 ia\n\nJoint meeting with Carlisle Natural History Society
LOCATION:Tullie House\, Castle Street\, Carlisle\, CA3 8TP\, United Kingdom
X-APPLE-STRUCTURED-LOCATION;VALUE=URI;X-ADDRESS=Castle Street\, Carlisle\, 
 CA3 8TP\, United Kingdom;X-APPLE-RADIUS=100;X-TITLE=Tullie House:geo:0,0
END:VEVENT
BEGIN:VTIMEZONE
TZID:Europe/London
X-LIC-LOCATION:Europe/London
BEGIN:STANDARD
DTSTART:20181028T010000
TZOFFSETFROM:+0100
TZOFFSETTO:+0000
TZNAME:GMT
END:STANDARD
END:VTIMEZONE
END:VCALENDAR