BEGIN:VCALENDAR
VERSION:2.0
PRODID:-//wp-events-plugin.com//7.2.3.1//EN
TZID:Europe/London
X-WR-TIMEZONE:Europe/London
BEGIN:VEVENT
UID:116@cumberland-geol-soc.org.uk
DTSTART;TZID=Europe/London:20250924T193000
DTEND;TZID=Europe/London:20250924T193000
DTSTAMP:20250730T122702Z
URL:https://www.cumberland-geol-soc.org.uk/events/introduction-to-the-wint
 er-programme-followed-by-a-talk-on-current-interpretations-of-the-borrowda
 le-volcanics/
SUMMARY:Introduction to the Winter programme\, followed by a talk on "Curre
 nt interpretations of the Borrowdale Volcanics".
DESCRIPTION:Dr Danny Clark-Lowes (CGS) introduces the Winter Programme\, a 
 themed set of talks on Lakeland Geology.\n\nDavid Haselden (CGS) will give
  a talk on "Current interpretations of the Borrowdale Volcanics".
LOCATION:Crosthwaite Parish Rooms\, Main Street\, Keswick\, CA12 5NN\, Unit
 ed Kingdom
GEO:54.60258760;-3.14081004
X-APPLE-STRUCTURED-LOCATION;VALUE=URI;X-ADDRESS=Main Street\, Keswick\, CA1
 2 5NN\, United Kingdom;X-APPLE-RADIUS=100;X-TITLE=Crosthwaite Parish Rooms
 :geo:54.60258760,-3.14081004
END:VEVENT
BEGIN:VTIMEZONE
TZID:Europe/London
X-LIC-LOCATION:Europe/London
BEGIN:DAYLIGHT
DTSTART:20250330T020000
TZOFFSETFROM:+0000
TZOFFSETTO:+0100
TZNAME:BST
END:DAYLIGHT
END:VTIMEZONE
END:VCALENDAR