BEGIN:VCALENDAR
VERSION:2.0
PRODID:-//wp-events-plugin.com//7.2.3.1//EN
TZID:Europe/London
X-WR-TIMEZONE:Europe/London
BEGIN:VEVENT
UID:94@cumberland-geol-soc.org.uk
DTSTART;TZID=Europe/London:20240629T093000
DTEND;TZID=Europe/London:20240630T093000
DTSTAMP:20240615T132238Z
URL:https://www.cumberland-geol-soc.org.uk/events/gillen-girvan-ballantrae
 -weekend/
SUMMARY:Girvan/Ballantrae Weekend
DESCRIPTION:Exploring the ophiolite complex and associated country rocks wi
 th Con Gillen.\n\nThis event is Fully booked\n\n\n\nThe rendezvous is at B
 alcreuchan Port on the seaward side of the A77 (NX 100 876) in a large la
 y-by high above the beach\, south of Lendalfoot and north of Ballantrae\, 
 at 0930 on Saturday 29 June for a briefing\, then decide on car sharing (4
  or 5\, depending on the number of seats available) before heading to the 
 first locality at Downan Point (Scavoch Rock in the GCR volume)\, to exami
 ne the well-exposed pillow lavas.\n\n2024-CGS-Excursion-Register-Girvan-Ba
 llantrae\n\n
END:VEVENT
BEGIN:VTIMEZONE
TZID:Europe/London
X-LIC-LOCATION:Europe/London
BEGIN:DAYLIGHT
DTSTART:20240331T020000
TZOFFSETFROM:+0000
TZOFFSETTO:+0100
TZNAME:BST
END:DAYLIGHT
END:VTIMEZONE
END:VCALENDAR