BEGIN:VCALENDAR
VERSION:2.0
PRODID:-//wp-events-plugin.com//7.2.3.1//EN
TZID:Europe/London
X-WR-TIMEZONE:Europe/London
BEGIN:VEVENT
UID:115@cumberland-geol-soc.org.uk
DTSTART;TZID=Europe/London:20250913T130000
DTEND;TZID=Europe/London:20250913T160000
DTSTAMP:20250824T112012Z
URL:https://www.cumberland-geol-soc.org.uk/events/eycott-hill-and-fairy-kn
 ott/
SUMMARY:Eycott Hill and Fairy Knott * PLEASE NOTE AMENDED START TIME OF 1 P
 M *
DESCRIPTION:* PLEASE NOTE AMENDED START TIME OF 1 PM *\n\nLeader: Ian Franc
 is\n\nAn afternoon excursion to Eycott Hill nature reserve to examine rock
 s and geomorphology at the site location of the Eycott Volcanic Group\, a 
 mid-Ordovician (Caradoc) sequence of basaltic andesite and andesite lava f
 lows and sills\, including an unusual porphyritic andesite lithology expos
 ed near the base of the sequence.  If time permits we will also visit Fai
 ry Knott\, north of Naddle Crag\, where faulting reveals an exposure of th
 e underlying Skiddaw Group.\n\nThe excursion will be held jointly with the
  Cumbria Wildlife Trust\n\n\n\nImage credit: Cumbria GeoConservation\n\nCG
 S Excursion Register Eycott\n\nSuggested further reading:\n\nNon-technical
 :\n\nNote Cumb Geol Soc articles are available for download from this webs
 ite here.\n\nClark\, R. 1989 Landscapes and Rocks in The Eycott Hill and 
 Carrock Fell Areas Proc Cumb. Geol. Soc.  Vol 5 Part 2. pp220-221\n\nCumb
 ria Wildlife Trust Virtual Tour\n\nFrancis\, I. \, Holmes\, S. &amp\; Yard
 ley\, B. 2022 The Lake District: Landscape and Geology Crowood Press pp 14
 9-151\n\nGate\, S. H. 1971 Excursion to the Eycott Lavas Proc Cumb Geol. S
 oc. Vol 3 Part 2 pp105-108\n\nRogers\, J. 2017  Proc. Cumb. Geol. Soc. Vo
 l 8 (2016-2017) Part 4 pp 542-543\n\nSmith\, A. 2019 Lakeland Rocks Crowoo
 d Press pp 28-30\n\nTechnical: \n\nEastwood\, T.  et al 1968 Geology of t
 he Country around Cockermouth and Caldbeck HMSO pp pp46-7\n\nMillward\, D\
 , and Molyneaux\, S G. 1992. Field and Biostratigraphic Evidence for an un
 conformity at the base of Eycott Volcanic Group in the Lake District. Geol
 ogical Magazine\, Vol.129/1\, p.77-92.\n\nMillward\, D et al.\, 2000. The 
 Eycott Volcanic Group\, an Ordovician continental margin andesite suite in
  the English Lake District. Proceedings of the Yorkshire Geological Societ
 y\, Vol.53\, 81-96.
LOCATION:Eycott Hill Car Park\, Cumbria Wildlife Trust Car Park\, Berrier\,
  Cumbria\, CA11 0SQ\, United Kingdom
GEO:54.6622717;-2.94175047
X-APPLE-STRUCTURED-LOCATION;VALUE=URI;X-ADDRESS=Cumbria Wildlife Trust Car 
 Park\, Berrier\, Cumbria\, CA11 0SQ\, United Kingdom;X-APPLE-RADIUS=100;X-
 TITLE=Eycott Hill Car Park:geo:54.6622717,-2.94175047
END:VEVENT
BEGIN:VTIMEZONE
TZID:Europe/London
X-LIC-LOCATION:Europe/London
BEGIN:DAYLIGHT
DTSTART:20250330T020000
TZOFFSETFROM:+0000
TZOFFSETTO:+0100
TZNAME:BST
END:DAYLIGHT
END:VTIMEZONE
END:VCALENDAR